BEGIN:VCALENDAR
VERSION:2.0
PRODID:-//Shelby Whippets Alumni - ECPv6.15.17.1//NONSGML v1.0//EN
CALSCALE:GREGORIAN
METHOD:PUBLISH
X-WR-CALNAME:Shelby Whippets Alumni
X-ORIGINAL-URL:https://www.shelbywhippetsalumni.org
X-WR-CALDESC:Events for Shelby Whippets Alumni
REFRESH-INTERVAL;VALUE=DURATION:PT1H
X-Robots-Tag:noindex
X-PUBLISHED-TTL:PT1H
BEGIN:VTIMEZONE
TZID:UTC
BEGIN:STANDARD
TZOFFSETFROM:+0000
TZOFFSETTO:+0000
TZNAME:UTC
DTSTART:20250101T000000
END:STANDARD
END:VTIMEZONE
BEGIN:VEVENT
DTSTART;TZID=UTC:20260509T100000
DTEND;TZID=UTC:20260509T110000
DTSTAMP:20260420T010813
CREATED:20260214T003249Z
LAST-MODIFIED:20260214T003249Z
UID:896-1778320800-1778324400@www.shelbywhippetsalumni.org
SUMMARY:Board Meeting
DESCRIPTION:All Shelby alumni are invited to attend.
URL:https://www.shelbywhippetsalumni.org/event/board-meeting-2/
LOCATION:Shelby High School\, 1 Whippet Way\, Shelby\, OH\, 44875\, United States
END:VEVENT
BEGIN:VEVENT
DTSTART;TZID=UTC:20260613T100000
DTEND;TZID=UTC:20260613T110000
DTSTAMP:20260420T010813
CREATED:20260214T003413Z
LAST-MODIFIED:20260214T003413Z
UID:898-1781344800-1781348400@www.shelbywhippetsalumni.org
SUMMARY:Board Meeting
DESCRIPTION:All Shelby alumni are invited to attend.
URL:https://www.shelbywhippetsalumni.org/event/board-meeting-3/
LOCATION:Shelby High School\, 1 Whippet Way\, Shelby\, OH\, 44875\, United States
END:VEVENT
BEGIN:VEVENT
DTSTART;TZID=UTC:20260711T100000
DTEND;TZID=UTC:20260711T110000
DTSTAMP:20260420T010813
CREATED:20260214T003533Z
LAST-MODIFIED:20260214T003533Z
UID:900-1783764000-1783767600@www.shelbywhippetsalumni.org
SUMMARY:Board Meeting
DESCRIPTION:All Shelby alumni are invited to attend.
URL:https://www.shelbywhippetsalumni.org/event/board-meeting-4/
LOCATION:Shelby High School\, 1 Whippet Way\, Shelby\, OH\, 44875\, United States
END:VEVENT
BEGIN:VEVENT
DTSTART;TZID=UTC:20260801T100000
DTEND;TZID=UTC:20260801T110000
DTSTAMP:20260420T010813
CREATED:20260214T003733Z
LAST-MODIFIED:20260214T003733Z
UID:902-1785578400-1785582000@www.shelbywhippetsalumni.org
SUMMARY:SHS Alumni Pub Crawl
DESCRIPTION:
URL:https://www.shelbywhippetsalumni.org/event/shs-alumni-pub-crawl/
LOCATION:Black Fork Commons\, 12 W. Main St.\, Shelby\, OH\, 44875\, United States
END:VEVENT
BEGIN:VEVENT
DTSTART;TZID=UTC:20260808T100000
DTEND;TZID=UTC:20260808T110000
DTSTAMP:20260420T010813
CREATED:20260214T003903Z
LAST-MODIFIED:20260214T003903Z
UID:904-1786183200-1786186800@www.shelbywhippetsalumni.org
SUMMARY:Board Meeting
DESCRIPTION:All Shelby alumni are invited to attend.
URL:https://www.shelbywhippetsalumni.org/event/board-meeting-5/
LOCATION:Shelby High School\, 1 Whippet Way\, Shelby\, OH\, 44875\, United States
END:VEVENT
BEGIN:VEVENT
DTSTART;TZID=UTC:20261010T100000
DTEND;TZID=UTC:20261010T110000
DTSTAMP:20260420T010813
CREATED:20260214T004038Z
LAST-MODIFIED:20260214T004038Z
UID:906-1791626400-1791630000@www.shelbywhippetsalumni.org
SUMMARY:Board Meeting
DESCRIPTION:All Shelby alumni are invited to attend.
URL:https://www.shelbywhippetsalumni.org/event/board-meeting-6/
LOCATION:Shelby High School\, 1 Whippet Way\, Shelby\, OH\, 44875\, United States
END:VEVENT
BEGIN:VEVENT
DTSTART;TZID=UTC:20261010T140000
DTEND;TZID=UTC:20261010T170000
DTSTAMP:20260420T010813
CREATED:20260214T004209Z
LAST-MODIFIED:20260214T004209Z
UID:908-1791640800-1791651600@www.shelbywhippetsalumni.org
SUMMARY:SHS Alumni Hall of Distinction
DESCRIPTION:
URL:https://www.shelbywhippetsalumni.org/event/shs-alumni-hall-of-distinction/
LOCATION:Shelby High School\, 1 Whippet Way\, Shelby\, OH\, 44875\, United States
END:VEVENT
BEGIN:VEVENT
DTSTART;TZID=UTC:20261114T100000
DTEND;TZID=UTC:20261114T110000
DTSTAMP:20260420T010813
CREATED:20260214T004317Z
LAST-MODIFIED:20260214T004317Z
UID:910-1794650400-1794654000@www.shelbywhippetsalumni.org
SUMMARY:Annual Organization Meeting
DESCRIPTION:
URL:https://www.shelbywhippetsalumni.org/event/annual-organization-meeting/
LOCATION:Shelby High School\, 1 Whippet Way\, Shelby\, OH\, 44875\, United States
END:VEVENT
END:VCALENDAR